BEGIN:VCALENDAR
VERSION:2.0
PRODID:-//The Association for Psychosocial Studies - ECPv6.15.20//NONSGML v1.0//EN
CALSCALE:GREGORIAN
METHOD:PUBLISH
X-ORIGINAL-URL:https://www.psychosocial-studies-association.org
X-WR-CALDESC:Events for The Association for Psychosocial Studies
REFRESH-INTERVAL;VALUE=DURATION:PT1H
X-Robots-Tag:noindex
X-PUBLISHED-TTL:PT1H
BEGIN:VTIMEZONE
TZID:Europe/London
BEGIN:DAYLIGHT
TZOFFSETFROM:+0000
TZOFFSETTO:+0100
TZNAME:BST
DTSTART:20160327T010000
END:DAYLIGHT
BEGIN:STANDARD
TZOFFSETFROM:+0100
TZOFFSETTO:+0000
TZNAME:GMT
DTSTART:20161030T010000
END:STANDARD
BEGIN:DAYLIGHT
TZOFFSETFROM:+0000
TZOFFSETTO:+0100
TZNAME:BST
DTSTART:20170326T010000
END:DAYLIGHT
BEGIN:STANDARD
TZOFFSETFROM:+0100
TZOFFSETTO:+0000
TZNAME:GMT
DTSTART:20171029T010000
END:STANDARD
BEGIN:DAYLIGHT
TZOFFSETFROM:+0000
TZOFFSETTO:+0100
TZNAME:BST
DTSTART:20180325T010000
END:DAYLIGHT
BEGIN:STANDARD
TZOFFSETFROM:+0100
TZOFFSETTO:+0000
TZNAME:GMT
DTSTART:20181028T010000
END:STANDARD
END:VTIMEZONE
BEGIN:VEVENT
DTSTART;TZID=Europe/London:20170704T180000
DTEND;TZID=Europe/London:20170704T200000
DTSTAMP:20260423T211200
CREATED:20170629T134606Z
LAST-MODIFIED:20230215T111253Z
UID:1143-1499191200-1499198400@www.psychosocial-studies-association.org
SUMMARY:Reasons to be cheerful or manic hope? Thoughts on the general election
DESCRIPTION:  \n  \nTuesday 4 July\, 6-8pm – The Tavistock Centre\, Belsize Lane\, NW3 \n  \nA roundtable discussion organised by the Tavistock Clinic Policy Seminar\, the Association for Psychosocial Studies\, and the BSA’s Sociology Psychoanalysis and Psychosocial Study Group. \nThe result of the recent general election took many of us by surprise. Labour’s unexpected surge in the polls and the loss of 13 Conservative seats indicate that large sections of the electorate are weary of austerity\, reject the populist ‘Little England’ and anti-immigration sentiments that helped fuel the Brexit vote\, and are either sceptical about a ‘hard’ Brexit or oppose leaving the EU altogether. After nearly 40 years in which neoliberalism has dominated British politics\, is there now an opening for a social democratic or socialist vision of Britain’s future? If so\, what might that vision \nlook like and how would we get there? And what can a psychosocial perspective contribute to our understanding those questions? This roundtable discussion will explore the potential lessons of the general election and consider possibilities for the renewal of social democracy in the 21st century. \n Speakers Georgina Blakeley\, Jon Cruddas MP and Michael Rustin \n  \nGeorgina Blakeley is Senior Lecturer in Politics at the Open University. She has published widely on citizen participation and urban governance. Her co-authored book The Regeneration of East Manchester: A Political Analysis was published in 2013. \nJon Cruddas is MP for Dagenham and Rainham\, and was Policy Coordinator for the Labour Party between 2012 and 2015. \n  \nMichael Rustin is a Visiting Professor at the Tavistock Clinic\, and a founding editor of Soundings. A paper by him on the election is online at: \nhttps://www.lwbooks.co.uk/blog/ge2017-corbyn-labour-what-next \n  \nAttendance is free but bookings can be made here: \n  \nhttps://www.eventbrite.co.uk/e/reasons-to-be-cheerful-or-manic-hope-thoughts-on-the-general-election-tickets-35728334410 \n  \n  \n 
URL:https://www.psychosocial-studies-association.org/event/reasons-to-be-cheerful-or-manic-hope-thoughts-on-the-general-election/
CATEGORIES:Seminar
END:VEVENT
END:VCALENDAR